BEGIN:VCALENDAR
VERSION:2.0
PRODID:-//RedStart Events - ECPv6.0.1.1//NONSGML v1.0//EN
CALSCALE:GREGORIAN
METHOD:PUBLISH
X-ORIGINAL-URL:https://events.redstart.tn
X-WR-CALDESC:évènements pour RedStart Events
REFRESH-INTERVAL;VALUE=DURATION:PT1H
X-Robots-Tag:noindex
X-PUBLISHED-TTL:PT1H
BEGIN:VTIMEZONE
TZID:Africa/Tunis
BEGIN:STANDARD
TZOFFSETFROM:+0100
TZOFFSETTO:+0100
TZNAME:CET
DTSTART:20250101T000000
END:STANDARD
END:VTIMEZONE
BEGIN:VEVENT
DTSTART;VALUE=DATE:20251113
DTEND;VALUE=DATE:20251114
DTSTAMP:20260424T181501
CREATED:20251002T125948Z
LAST-MODIFIED:20251014T154603Z
UID:10000011-1762992000-1763078399@events.redstart.tn
SUMMARY:IPDAYS X GITS 2025: L'INTERNATIONAL
DESCRIPTION:Contexte IPDAYS X GITS 2025 “L’INTERNATIONAL”\nLes IPDAYS 2025 placent l’internationalisation au cœur de la réflexion entrepreneuriale. Dans un monde de plus en plus interconnecté\, s’ouvrir aux marchés étrangers n’est plus une option mais une nécessité pour les startups et PME. Cette édition offrira aux participant.es des opportunités concrètes pour explorer de nouveaux horizons\, renforcer leurs partenariats transfrontaliers et valoriser le potentiel tunisien à l’échelle mondiale\, tout en connectant innovation\, impact et ouverture sur le monde. \nN.B. Le 12 novembre sera une journée sur invitation uniquement. Le 13 novembre\, l’événement sera ouvert à toutes celles et ceux qui souhaitent découvrir les IPDAYS. \n 
URL:https://events.redstart.tn/event/ipdays-2025-l-internatinal/
LOCATION:Radisson Blu Hotel & Convention Center\, Tunis\, Place des Droits de L'Homme\, Tunis\, Ave Mohamed V\, 1001\, Tunisie
ATTACH;FMTTYPE=image/png:https://events.redstart.tn/wp-content/uploads/2025/10/👋-Cover-43.png
END:VEVENT
END:VCALENDAR